BEGIN:VCALENDAR
VERSION:2.0
PRODID:-//Pudasjärvi - ECPv6.15.20//NONSGML v1.0//EN
CALSCALE:GREGORIAN
METHOD:PUBLISH
X-WR-CALNAME:Pudasjärvi
X-ORIGINAL-URL:https://www.pudasjarvi.fi
X-WR-CALDESC:Tapahtumat Pudasjärvi
REFRESH-INTERVAL;VALUE=DURATION:PT1H
X-Robots-Tag:noindex
X-PUBLISHED-TTL:PT1H
BEGIN:VTIMEZONE
TZID:Europe/Helsinki
BEGIN:DAYLIGHT
TZOFFSETFROM:+0200
TZOFFSETTO:+0300
TZNAME:EEST
DTSTART:20250330T010000
END:DAYLIGHT
BEGIN:STANDARD
TZOFFSETFROM:+0300
TZOFFSETTO:+0200
TZNAME:EET
DTSTART:20251026T010000
END:STANDARD
BEGIN:DAYLIGHT
TZOFFSETFROM:+0200
TZOFFSETTO:+0300
TZNAME:EEST
DTSTART:20260329T010000
END:DAYLIGHT
BEGIN:STANDARD
TZOFFSETFROM:+0300
TZOFFSETTO:+0200
TZNAME:EET
DTSTART:20261025T010000
END:STANDARD
BEGIN:DAYLIGHT
TZOFFSETFROM:+0200
TZOFFSETTO:+0300
TZNAME:EEST
DTSTART:20270328T010000
END:DAYLIGHT
BEGIN:STANDARD
TZOFFSETFROM:+0300
TZOFFSETTO:+0200
TZNAME:EET
DTSTART:20271031T010000
END:STANDARD
END:VTIMEZONE
BEGIN:VEVENT
DTSTART;TZID=Europe/Helsinki:20260425T090000
DTEND;TZID=Europe/Helsinki:20260425T150000
DTSTAMP:20260424T221133
CREATED:20260304T134514Z
LAST-MODIFIED:20260304T134514Z
UID:10001520-1777107600-1777129200@www.pudasjarvi.fi
SUMMARY:Hyvän Olon Messut
DESCRIPTION:Tämän vuoden messujen teemana on Hyvinvointia luonnosta. \nOhjelmassa mm.\n\nEetu Kemppanen kertoo luontoretkistään ja niistä selviytymisestään\nMuotiesitys Vaatepuoti Pikkupeukun vetämänä\nSaksofonisti Cacho Petrello\nVanhojen tekstiilien näyttely\, Maija Lax\nPudasjärven nuorisovaltuusto vetää Lasten puuhanurkkaa\n\nLisäksi messuravintola ja messuarpoja. \nVaraa pöytäsi ajoissa: 0400 507 984 / Anna-Liisa Seppänen \nVapaa pääsy\, tervetuloa!
URL:https://www.pudasjarvi.fi/tapahtuma/hyvan-olon-messut-2/
LOCATION:Tuomas Sammelvuo -sali\, Tuulimyllyntie 4\, Pudasjärvi
CATEGORIES:Markkinat ja messut
ATTACH;FMTTYPE=image/jpeg:https://www.pudasjarvi.fi/wp-content/uploads/20260425-hyvan-olon-messut.jpg
END:VEVENT
END:VCALENDAR